BEGIN:VCALENDAR
VERSION:2.0
PRODID:-//Luna Bloom - ECPv4.9.13//NONSGML v1.0//EN
CALSCALE:GREGORIAN
METHOD:PUBLISH
X-WR-CALNAME:Luna Bloom
X-ORIGINAL-URL:https://www.lunabloom.co.nz
X-WR-CALDESC:Events for Luna Bloom
BEGIN:VTIMEZONE
TZID:Pacific/Auckland
BEGIN:STANDARD
TZOFFSETFROM:+1300
TZOFFSETTO:+1200
TZNAME:NZST
DTSTART:20190406T140000
END:STANDARD
BEGIN:DAYLIGHT
TZOFFSETFROM:+1200
TZOFFSETTO:+1300
TZNAME:NZDT
DTSTART:20190928T140000
END:DAYLIGHT
END:VTIMEZONE
BEGIN:VEVENT
DTSTART;TZID=Pacific/Auckland:20191130T093000
DTEND;TZID=Pacific/Auckland:20191130T173000
DTSTAMP:20191217T141708
CREATED:20190418T190348Z
LAST-MODIFIED:20190806T145434Z
UID:1451-1575106200-1575135000@www.lunabloom.co.nz
SUMMARY:Birth Skills Workshop
DESCRIPTION: \n  \nOpti-mum is a mindfully designed childbirth education with a twenty first century twist where you can focus on the mind-body connection in order to facilitate optimal health for pregnancy\, birth and parenting. \nMost childbirth and parent education occurs towards the end of pregnancy. This program designed to start these wonderful practices an earlier stage into your journey. It is ideal because it offers greater opportunity to integrate the tools you learn during your pregnancy\, providing more powerful opportunities and space to build them into every day routine\, so they can became your second nature. \n  \n\nhttps://www.lunabloom.co.nz/wp-content/uploads/sites/47/2019/04/Birth-Skills-Facebook-Video.mp4\n  \nYour one day Birth Skills Workshop includes: \n\nUnderstanding how your hormonal system can help or hinder labour and birth\nWhat to expect at each stage of labour\nHow to create the optimal birthing environment\nMaking mindful decisions so you’re in control\nPreparing partners and birth companions for their important role in the labour and birthing room.\nProviding you with tools that will help you to optimise the ‘rest and digest’ hormones during labour and birth.\nIntroducing you to a range of skills that will help to keep you focused during labour and birth.\nDefining ‘birthing in awareness’ and the importance of this concept in becoming parents\nNavigating obstacles\nReducing anxiety/stress\, increasing calm and confidence\nFocused and non-focused awareness exercises to invite and embrace labour sensations\n\nIf you wish to read more\, please visit my blog: https://www.lunabloom.co.nz/birth-skills-workshop/ \nTo register: https://www.eventbrite.co.nz \nor any enquiries please visit: http://www.opti-mum.co.nz \n  \nShare this:TwitterFacebook
URL:https://www.lunabloom.co.nz/event/birth-skills-workshop/
LOCATION:Founders Park\, 87 Atawhai Drive\, The Wood\, Nelson 7010\, 87 Atawhai Drive\, The Wood\, Nelson\, 7010\, New Zealand
ORGANIZER;CN="KeiShana%20Coursey":MAILTO:keishanacoursey@gmail.com
END:VEVENT
END:VCALENDAR